BEGIN:VCALENDAR
VERSION:2.0
PRODID:-//wp-events-plugin.com//7.2.3.1//EN
TZID:America/New_York
X-WR-TIMEZONE:America/New_York
BEGIN:VEVENT
UID:29091@hudsonvalleykids.org
DTSTART;TZID=America/New_York:20251112T110000
DTEND;TZID=America/New_York:20251112T114500
DTSTAMP:20251111T015855Z
URL:https://hudsonvalleykids.org/events/zumbini-with-tina/
SUMMARY:Zumbini with Tina at Finkelstein Library
DESCRIPTION:Zumbini with Tina\nWednesday\, 11/12/25\n\n11 - 11:45 am\n\nBir
 th - Preschool Age 3\n\nFree\n\nMusic and movement class for you and your 
 child. Get your child moving where the science of child development meets 
 the magic of Zumba!\n\nEVENT LINK
ATTACH;FMTTYPE=image/jpeg:https://hudsonvalleykids.org/wp-content/uploads/
 2025/09/Logo-37.png
CATEGORIES:Arts &amp; Entertainment,Fun &amp; Leisure,Sports &amp;
 Wellness
LOCATION:Finkelstein Memorial LIbrary\, 24 Chestnut St\, Spring Valley\, NY
 \, 10977\, United States
X-APPLE-STRUCTURED-LOCATION;VALUE=URI;X-ADDRESS=24 Chestnut St\, Spring Val
 ley\, NY\, 10977\, United States;X-APPLE-RADIUS=100;X-TITLE=Finkelstein Me
 morial LIbrary:geo:0,0
END:VEVENT
BEGIN:VTIMEZONE
TZID:America/New_York
X-LIC-LOCATION:America/New_York
BEGIN:STANDARD
DTSTART:20251102T010000
TZOFFSETFROM:-0400
TZOFFSETTO:-0500
TZNAME:EST
END:STANDARD
END:VTIMEZONE
END:VCALENDAR