BEGIN:VCALENDAR
VERSION:2.0
PRODID:-//wp-events-plugin.com//7.2.3.1//EN
TZID:America/New_York
X-WR-TIMEZONE:America/New_York
BEGIN:VEVENT
UID:29373@hudsonvalleykids.org
DTSTART;TZID=America/New_York:20251224T170000
DTEND;TZID=America/New_York:20251224T210000
DTSTAMP:20251217T023031Z
URL:https://hudsonvalleykids.org/events/wonderland-of-lights-dutchess-coun
 ty-fairgrounds-2025-12-24/
SUMMARY:Wonderland of Lights at Dutchess County Fairgrounds
DESCRIPTION:Wonderland of Lights\nNovember 28 - 30\, \nDecember 4-7 &amp\; 
 11-14\nDecember 18-28\, 2025\n\nOpen 5 - 9 pm\n\n*5 - 9:30 pm | Friday &am
 p\; Saturday\nCelebrate the Holidays at our 5th Annual THE WONDERLAND OF L
 IGHTS at the Dutchess County Fairgrounds in Rhinebeck\, NY\, featuring hun
 dreds of dazzling displays to delight the entire family! Tickets are avail
 able online or at the gate.\nEVENT LINK
ATTACH;FMTTYPE=image/jpeg:https://hudsonvalleykids.org/wp-content/uploads/
 2025/12/Wonderland-of-Lights-Dutchess-County-Fairgrounds-1-1.jpg
CATEGORIES:Fun &amp; Leisure,Holiday &amp; Seasonal
LOCATION:Dutchess County Fairgrounds\, 6550 Spring Brook Ave. NY \, Rhinebe
 ck\, NY\, 12572\, Dutchess County NY\, United States
GEO:41.937891;-73.905119
X-APPLE-STRUCTURED-LOCATION;VALUE=URI;X-ADDRESS=6550 Spring Brook Ave. NY \
 , Rhinebeck\, NY\, 12572\, Dutchess County NY\, United States;X-APPLE-RADI
 US=100;X-TITLE=Dutchess County Fairgrounds:geo:41.937891,-73.905119
END:VEVENT
BEGIN:VTIMEZONE
TZID:America/New_York
X-LIC-LOCATION:America/New_York
BEGIN:STANDARD
DTSTART:20251102T010000
TZOFFSETFROM:-0400
TZOFFSETTO:-0500
TZNAME:EST
END:STANDARD
END:VTIMEZONE
END:VCALENDAR