BEGIN:VCALENDAR
VERSION:2.0
PRODID:-//wp-events-plugin.com//7.2.3.1//EN
TZID:America/New_York
X-WR-TIMEZONE:America/New_York
BEGIN:VEVENT
UID:29734@hudsonvalleykids.org
DTSTART;TZID=America/New_York:20260421T103000
DTEND;TZID=America/New_York:20260421T111500
DTSTAMP:20260421T030336Z
URL:https://hudsonvalleykids.org/events/museum-melodies-celebrating-earth-
 day-at-mid-hudson-discovery-museum/
SUMMARY:Museum Melodies: Celebrating Earth Day at Mid-Hudson Discovery Mus
 eum
DESCRIPTION:Museum Melodies: Celebrating Earth Day\nTuesday\, April 21\, 20
 26\n\n10:30 - 11:15 am\n\nIncluded with museum admission of $15\n\nCelebra
 te Earth Day with a special Earth-themed Museum Melodies! Join us for a jo
 yful musical adventure with Emily Music for Kids\, specially designed for 
 children ages 0–5 and their caregivers. Create your own egg shaker\, sin
 g along to lively songs\, and enjoy hands-on activities that celebrate our
  planet. Keep the fun going – after the program\, make a bird feeder to 
 support our feathered friends!\n\nSpace is limited so arrive early to secu
 re your spot. A parent or guardian must remain with their child throughout
  the program.\n\nEVENT LINK
ATTACH;FMTTYPE=image/jpeg:https://hudsonvalleykids.org/wp-content/uploads/
 2026/03/Museum-Melodies-Earth-Day-1.jpg
CATEGORIES:Fun &amp; Leisure,Learning &amp; Enrichment
LOCATION:Mid-Hudson Discovery Museum\, 75 North Water Street\, Poughkeepsie
 \, NY\, 12601\, United States
X-APPLE-STRUCTURED-LOCATION;VALUE=URI;X-ADDRESS=75 North Water Street\, Pou
 ghkeepsie\, NY\, 12601\, United States;X-APPLE-RADIUS=100;X-TITLE=Mid-Huds
 on Discovery Museum:geo:0,0
END:VEVENT
BEGIN:VTIMEZONE
TZID:America/New_York
X-LIC-LOCATION:America/New_York
BEGIN:DAYLIGHT
DTSTART:20260308T030000
TZOFFSETFROM:-0500
TZOFFSETTO:-0400
TZNAME:EDT
END:DAYLIGHT
END:VTIMEZONE
END:VCALENDAR