BEGIN:VCALENDAR
VERSION:2.0
PRODID:-//wp-events-plugin.com//7.2.3.1//EN
TZID:America/New_York
X-WR-TIMEZONE:America/New_York
BEGIN:VEVENT
UID:29687@hudsonvalleykids.org
DTSTART;TZID=America/New_York:20260421T163000
DTEND;TZID=America/New_York:20260421T173000
DTSTAMP:20260421T031442Z
URL:https://hudsonvalleykids.org/events/mini-makers-mini-greenhouses-at-fi
 nkelstein-library/
SUMMARY:Mini Makers - Mini Greenhouses at Finkelstein Library
DESCRIPTION:Mini Greenhouses\nTuesday\, April 21\, 2026\n\n3:30 - 5:30 pm\n
 \nGr. K-3\n\nCreate\, make\, and innovate with Mini Makers at the Library!
  April's project: Mini Greenhouses.\n\nEVENT LINK
CATEGORIES:Arts &amp; Entertainment,Learning &amp; Enrichment
LOCATION:Finkelstein Memorial Library\, 24 Chestnut St\, Spring Valley\, NY
 \, 10977\, United States
X-APPLE-STRUCTURED-LOCATION;VALUE=URI;X-ADDRESS=24 Chestnut St\, Spring Val
 ley\, NY\, 10977\, United States;X-APPLE-RADIUS=100;X-TITLE=Finkelstein Me
 morial Library:geo:0,0
END:VEVENT
BEGIN:VTIMEZONE
TZID:America/New_York
X-LIC-LOCATION:America/New_York
BEGIN:DAYLIGHT
DTSTART:20260308T030000
TZOFFSETFROM:-0500
TZOFFSETTO:-0400
TZNAME:EDT
END:DAYLIGHT
END:VTIMEZONE
END:VCALENDAR