BEGIN:VCALENDAR
VERSION:2.0
PRODID:-//wp-events-plugin.com//7.2.3.1//EN
TZID:America/New_York
X-WR-TIMEZONE:America/New_York
BEGIN:VEVENT
UID:29732@hudsonvalleykids.org
DTSTART;TZID=America/New_York:20260421T130000
DTEND;TZID=America/New_York:20260424T140000
DTSTAMP:20260421T031029Z
URL:https://hudsonvalleykids.org/events/earth-week-engineering-at-mid-huds
 on-discovery-museum/
SUMMARY:Earth Week Engineering at Mid-Hudson Discovery Museum
DESCRIPTION:Earth Week Engineering\n04/21/2026 to 04/24/2026\n\n1 - 2 pm\n\
 nIncluded with museum admission of $15\n\nTake part in Earth Week with han
 ds-on engineering challenges designed for curious\, creative kids! Using r
 ecycled and everyday materials\, kids will design and build insect habitat
 s\, bee hotels\, bird feeders\, and more. It’s a fun\, engaging way for 
 kids ages 3 and up to think like engineers while making a positive impact 
 on the environment.\n\nEVENT LINK
ATTACH;FMTTYPE=image/jpeg:https://hudsonvalleykids.org/wp-content/uploads/
 2026/03/Earth-Week-Engineering-at-Mid-Hudson-Discovery-Museum-1-1.jpg
CATEGORIES:Fun &amp; Leisure,Learning &amp; Enrichment
LOCATION:Mid-Hudson Discovery Museum\, 75 North Water Street\, Poughkeepsie
 \, NY\, 12601\, United States
X-APPLE-STRUCTURED-LOCATION;VALUE=URI;X-ADDRESS=75 North Water Street\, Pou
 ghkeepsie\, NY\, 12601\, United States;X-APPLE-RADIUS=100;X-TITLE=Mid-Huds
 on Discovery Museum:geo:0,0
END:VEVENT
BEGIN:VTIMEZONE
TZID:America/New_York
X-LIC-LOCATION:America/New_York
BEGIN:DAYLIGHT
DTSTART:20260308T030000
TZOFFSETFROM:-0500
TZOFFSETTO:-0400
TZNAME:EDT
END:DAYLIGHT
END:VTIMEZONE
END:VCALENDAR