BEGIN:VCALENDAR
VERSION:2.0
PRODID:-//wp-events-plugin.com//7.2.3.1//EN
TZID:America/New_York
X-WR-TIMEZONE:America/New_York
BEGIN:VEVENT
UID:29733@hudsonvalleykids.org
DTSTART;TZID=America/New_York:20260422T140000
DTEND;TZID=America/New_York:20260422T150000
DTSTAMP:20260421T031953Z
URL:https://hudsonvalleykids.org/events/earth-day-seed-planting-at-mid-hud
 son-discovery-museum/
SUMMARY:Earth Day Seed Planting at Mid-Hudson Discovery Museum
DESCRIPTION:Earth Day Seed Planting\nWednesday\, April 22\, 2026\n\n2 - 3 p
 m\n\nIncluded with museum admission of $15\n\nCelebrate the wonder of plan
 ts with a hands-on seed exploration! Kids learn how seeds grow\, why they 
 come in different shapes and sizes\, and what they need to thrive. Then th
 ey’ll plant their own seed in a pot to take home and watch it grow. This
  interactive activity is perfect for budding botanists of all ages and a g
 reat way to connect with nature.\n\nEVENT LINK
ATTACH;FMTTYPE=image/jpeg:https://hudsonvalleykids.org/wp-content/uploads/
 2026/03/Earth-Day-Seed-Planting-at-Mid-Hudson-Discovery-Museum-1.jpg
CATEGORIES:Fun &amp; Leisure,Learning &amp; Enrichment
LOCATION:Mid-Hudson Discovery Museum\, 75 North Water Street\, Poughkeepsie
 \, NY\, 12601\, United States
X-APPLE-STRUCTURED-LOCATION;VALUE=URI;X-ADDRESS=75 North Water Street\, Pou
 ghkeepsie\, NY\, 12601\, United States;X-APPLE-RADIUS=100;X-TITLE=Mid-Huds
 on Discovery Museum:geo:0,0
END:VEVENT
BEGIN:VTIMEZONE
TZID:America/New_York
X-LIC-LOCATION:America/New_York
BEGIN:DAYLIGHT
DTSTART:20260308T030000
TZOFFSETFROM:-0500
TZOFFSETTO:-0400
TZNAME:EDT
END:DAYLIGHT
END:VTIMEZONE
END:VCALENDAR